Workbook

Sheet Main
A1: ITEM ID | B1: 27735 | G1: INPUT
A2: Effect | B2: Magnitude | C2: Eff # | D2: Full Effect | E2: Result | G2: CALCULATION
A3: def | B3: 50 | C3: =VLOOKUP(A3,Effects!A2:D497,3,FALSE) -> 1 | D3: =VLOOKUP(A3,Effects!A2:D497,4,FALSE) -> Defense | E3: =CONCATENATE("INSERT INTO `item_mods` VALUES (",$B$1,", ",C3,", ",B3,"); -- ",D3," + ",B3) -> INSERT INTO `item_mods` VALUES (27735, 1, 50); -- Defense + 50 | G3: OUTPUT
A4: hp | B4: 13 | C4: =VLOOKUP(A4,Effects!A3:D498,3,FALSE) -> 2 | D4: =VLOOKUP(A4,Effects!A3:D498,4,FALSE) -> HP | E4: =CONCATENATE("INSERT INTO `item_mods` VALUES (",$B$1,", ",C4,", ",B4,"); -- ",D4," + ",B4) -> INSERT INTO `item_mods` VALUES (27735, 2, 13); -- HP + 13
A5: mp | B5: 26 | C5: =VLOOKUP(A5,Effects!A4:D499,3,FALSE) -> 5 | D5: =VLOOKUP(A5,Effects!A4:D499,4,FALSE) -> MP | E5: =CONCATENATE("INSERT INTO `item_mods` VALUES (",$B$1,", ",C5,", ",B5,"); -- ",D5," + ",B5) -> INSERT INTO `item_mods` VALUES (27735, 5, 26); -- MP + 26
A6: str | B6: 10 | C6: =VLOOKUP(A6,Effects!A5:D500,3,FALSE) -> 8 | D6: =VLOOKUP(A6,Effects!A5:D500,4,FALSE) -> STR | E6: =CONCATENATE("INSERT INTO `item_mods` VALUES (",$B$1,", ",C6,", ",B6,"); -- ",D6," + ",B6) -> INSERT INTO `item_mods` VALUES (27735, 8, 10); -- STR + 10
A7: dex | B7: 10 | C7: =VLOOKUP(A7,Effects!A6:D501,3,FALSE) -> 9 | D7: =VLOOKUP(A7,Effects!A6:D501,4,FALSE) -> DEX | E7: =CONCATENATE("INSERT INTO `item_mods` VALUES (",$B$1,", ",C7,", ",B7,"); -- ",D7," + ",B7) -> INSERT INTO `item_mods` VALUES (27735, 9, 10); -- DEX + 10
A8: vit | B8: 10 | C8: =VLOOKUP(A8,Effects!A7:D502,3,FALSE) -> 10 | D8: =VLOOKUP(A8,Effects!A7:D502,4,FALSE) -> VIT | E8: =CONCATENATE("INSERT INTO `item_mods` VALUES (",$B$1,", ",C8,", ",B8,"); -- ",D8," + ",B8) -> INSERT INTO `item_mods` VALUES (27735, 10, 10); -- VIT + 10
A9: agi | B9: 10 | C9: =VLOOKUP(A9,Effects!A8:D503,3,FALSE) -> 11 | D9: =VLOOKUP(A9,Effects!A8:D503,4,FALSE) -> AGI | E9: =CONCATENATE("INSERT INTO `item_mods` VALUES (",$B$1,", ",C9,", ",B9,"); -- ",D9," + ",B9) -> INSERT INTO `item_mods` VALUES (27735, 11, 10); -- AGI + 10
A10: int | B10: 13 | C10: =VLOOKUP(A10,Effects!A9:D504,3,FALSE) -> 12 | D10: =VLOOKUP(A10,Effects!A9:D504,4,FALSE) -> INT | E10: =CONCATENATE("INSERT INTO `item_mods` VALUES (",$B$1,", ",C10,", ",B10,"); -- ",D10," + ",B10) -> INSERT INTO `item_mods` VALUES (27735, 12, 13); -- INT + 13
A11: mnd | B11: 13 | C11: =VLOOKUP(A11,Effects!A10:D505,3,FALSE) -> 13 | D11: =VLOOKUP(A11,Effects!A10:D505,4,FALSE) -> MND | E11: =CONCATENATE("INSERT INTO `item_mods` VALUES (",$B$1,", ",C11,", ",B11,"); -- ",D11," + ",B11) -> INSERT INTO `item_mods` VALUES (27735, 13, 13); -- MND + 13
A12: chr | B12: 19 | C12: =VLOOKUP(A12,Effects!A11:D506,3,FALSE) -> 14 | D12: =VLOOKUP(A12,Effects!A11:D506,4,FALSE) -> CHR | E12: =CONCATENATE("INSERT INTO `item_mods` VALUES (",$B$1,", ",C12,", ",B12,"); -- ",D12," + ",B12) -> INSERT INTO `item_mods` VALUES (27735, 14, 19); -- CHR + 19
A13: light | B13: 40 | C13: =VLOOKUP(A13,Effects!A12:D507,3,FALSE) -> 60 | D13: =VLOOKUP(A13,Effects!A12:D507,4,FALSE) -> Light Resistance | E13: =CONCATENATE("INSERT INTO `item_mods` VALUES (",$B$1,", ",C13,", ",B13,"); -- ",D13," + ",B13) -> INSERT INTO `item_mods` VALUES (27735, 60, 40); -- Light Resistance + 40
A14: eva | B14: 12 | C14: =VLOOKUP(A14,Effects!A13:D508,3,FALSE) -> 68 | D14: =VLOOKUP(A14,Effects!A13:D508,4,FALSE) -> Evasion | E14: =CONCATENATE("INSERT INTO `item_mods` VALUES (",$B$1,", ",C14,", ",B14,"); -- ",D14," + ",B14) -> INSERT INTO `item_mods` VALUES (27735, 68, 12); -- Evasion + 12
A15: meva | B15: 51 | C15: =VLOOKUP(A15,Effects!A14:D509,3,FALSE) -> 31 | D15: =VLOOKUP(A15,Effects!A14:D509,4,FALSE) -> Magic Evasion | E15: =CONCATENATE("INSERT INTO `item_mods` VALUES (",$B$1,", ",C15,", ",B15,"); -- ",D15," + ",B15) -> INSERT INTO `item_mods` VALUES (27735, 31, 51); -- Magic Evasion + 51
... A18: blindres | B18: 2 | C18: =VLOOKUP(A18,Effects!A17:D512,3,FALSE) -> 243 | D18: =VLOOKUP(A18,Effects!A17:D512,4,FALSE) -> Blind Resistance | E18: =CONCATENATE("INSERT INTO `item_mods` VALUES (",$B$1,", ",C18,", ",B18,"); -- ",D18," + ",B18) -> INSERT INTO `item_mods` VALUES (27735, 243, 2); -- Blind Resistance + 2
C19: =VLOOKUP(A19,Effects!A18:D513,3,FALSE) -> #N/A | D19: =VLOOKUP(A19,Effects!A18:D513,4,FALSE) -> #N/A | E19: =CONCATENATE("INSERT INTO `item_mods` VALUES (",$B$1,", ",C19,", ",B19,"); -- ",D19," + ",B19) -> #N/A
C20: =VLOOKUP(A20,Effects!A19:D514,3,FALSE) -> #N/A | D20: =VLOOKUP(A20,Effects!A19:D514,4,FALSE) -> #N/A | E20: =CONCATENATE("INSERT INTO `item_mods` VALUES (",$B$1,", ",C20,", ",B20,"); -- ",D20," + ",B20) -> #N/A
C21: =VLOOKUP(A21,Effects!A20:D515,3,FALSE) -> #N/A | D21: =VLOOKUP(A21,Effects!A20:D515,4,FALSE) -> #N/A | E21: =CONCATENATE("INSERT INTO `item_mods` VALUES (",$B$1,", ",C21,", ",B21,"); -- ",D21," + ",B21) -> #N/A
C22: =VLOOKUP(A22,Effects!A21:D516,3,FALSE) -> #N/A | D22: =VLOOKUP(A22,Effects!A21:D516,4,FALSE) -> #N/A | E22: =CONCATENATE("INSERT INTO `item_mods` VALUES (",$B$1,", ",C22,", ",B22,"); -- ",D22," + ",B22) -> #N/A
C23: =VLOOKUP(A23,Effects!A22:D517,3,FALSE) -> #N/A | D23: =VLOOKUP(A23,Effects!A22:D517,4,FALSE) -> #N/A | E23: =CONCATENATE("INSERT INTO `item_mods` VALUES (",$B$1,", ",C23,", ",B23,"); -- ",D23," + ",B23) -> #N/A
C24: =VLOOKUP(A24,Effects!A23:D518,3,FALSE) -> #N/A | D24: =VLOOKUP(A24,Effects!A23:D518,4,FALSE) -> #N/A | E24: =CONCATENATE("INSERT INTO `item_mods` VALUES (",$B$1,", ",C24,", ",B24,"); -- ",D24," + ",B24) -> #N/A
A25: COMMENTED/UNKNOWN LINES
A26: UNKNOWN EFFECT NUMBER, KNOWN VALUE
A27: Unknown | B27: 5 | D27: Song Spellcasting Time | E27: =CONCATENATE("-- INSERT INTO `item_mods` VALUES (",$B$1,", ?, ",B27,"); -- ",D27," + ",B27) -> -- INSERT INTO `item_mods` VALUES (27735, ?, 5); -- Song Spellcasting Time + 5
A28: KNOWN EFFECT NUMBER, UNKNOWN VALUE
A29: fastcast | B29: ? | C29: =VLOOKUP(A29,Effects!A28:D523,3,FALSE) -> 170 | D29: =VLOOKUP(A29,Effects!A28:D523,4,FALSE) -> Fast Cast | E29: =CONCATENATE("-- INSERT INTO `item_mods` VALUES (",$B$1,", ",C29,", ",B29,"); -- ",D29," + ",B29) -> -- INSERT INTO `item_mods` VALUES (27735, 170, ?); -- Fast Cast + ?
A30: UNKNOWN EFFECT NUMBER AND VALUE
A31: Unknown | B31: ? | D31: Elemental WS by Day | E31: =CONCATENATE("-- INSERT INTO `item_mods` VALUES (",$B$1,", ?, ",B31,"); -- ",D31," + ",B31) -> -- INSERT INTO `item_mods` VALUES (27735, ?, ?); -- Elemental WS by Day + ?

Sheet Effects
A1: Effect | B1: Hex | C1: Dec | D1: Description | E1: Value Syntax
A2: def | B2: 1 | C2: =HEX2DEC(B2) -> 1 | D2: Defense
A3: hp | B3: 2 | C3: =HEX2DEC(B3) -> 2 | D3: HP
A4: hp% | B4: 3 | C4: =HEX2DEC(B4) -> 3 | D4: Percent HP
A5: mp to hp | B5: 4 | C5: =HEX2DEC(B5) -> 4 | D5: Converts MP to HP
A6: mp | B6: 5 | C6: =HEX2DEC(B6) -> 5 | D6: MP
A7: mp% | B7: 6 | C7: =HEX2DEC(B7) -> 6 | D7: Percent MP
A8: hp to mp | B8: 7 | C8: =HEX2DEC(B8) -> 7 | D8: Converts HP to MP
A9: str | B9: 8 | C9: =HEX2DEC(B9) -> 8 | D9: STR
A10: dex | B10: 9 | C10: =HEX2DEC(B10) -> 9 | D10: DEX
A11: vit | B11: a | C11: =HEX2DEC(B11) -> 10 | D11: VIT
A12: agi | B12: b | C12: =HEX2DEC(B12) -> 11 | D12: AGI
A13: int | B13: c | C13: =HEX2DEC(B13) -> 12 | D13: INT
A14: mnd | B14: d | C14: =HEX2DEC(B14) -> 13 | D14: MND
A15: chr | B15: e | C15: =HEX2DEC(B15) -> 14 | D15: CHR
A16: fire | B16: 36 | C16: =HEX2DEC(B16) -> 54 | D16: Fire Resistance
A17: ice | B17: 37 | C17: =HEX2DEC(B17) -> 55 | D17: Ice Resistance
A18: wind | B18: 38 | C18: =HEX2DEC(B18) -> 56 | D18: Wind Resistance
A19: earth | B19: 39 | C19: =HEX2DEC(B19) -> 57 | D19: Earth Resistance
A20: thunder | B20: 3a | C20: =HEX2DEC(B20) -> 58 | D20: Thunder Resistance
A21: water | B21: 3b | C21: =HEX2DEC(B21) -> 59 | D21: Water Resistance
A22: light | B22: 3c | C22: =HEX2DEC(B22) -> 60 | D22: Light Resistance
A23: dark | B23: 3d | C23: =HEX2DEC(B23) -> 61 | D23: Dark Resistance
A24: att | B24: 17 | C24: =HEX2DEC(B24) -> 23 | D24: Attack
A25: ratt | B25: 18 | C25: =HEX2DEC(B25) -> 24 | D25: Ranged Attack
A26: acc | B26: 19 | C26: =HEX2DEC(B26) -> 25 | D26: Accuracy
A27: racc | B27: 1a | C27: =HEX2DEC(B27) -> 26 | D27: Ranged Accuracy
A28: enmity | B28: 1b | C28: =HEX2DEC(B28) -> 27 | D28: Enmity
A29: enmity loss | B29: 1f6 | C29: =HEX2DEC(B29) -> 502 | D29: Loss of Enmity
A30: matt | B30: 1c | C30: =HEX2DEC(B30) -> 28 | D30: Magic Attack Bonus
A31: mdef | B31: 1d | C31: =HEX2DEC(B31) -> 29 | D31: Magic Defense Bonus
A32: macc | B32: 1e | C32: =HEX2DEC(B32) -> 30 | D32: Magic Accuracy
A33: meva | B33: 1f | C33: =HEX2DEC(B33) -> 31 | D33: Magic Evasion
A34: fireatt | B34: 20 | C34: =HEX2DEC(B34) -> 32 | D34: Fire Attack
A35: iceatt | B35: 21 | C35: =HEX2DEC(B35) -> 33 | D35: Ice Attack
A36: windatt | B36: 22 | C36: =HEX2DEC(B36) -> 34 | D36: Wind Attack
A37: earthatt | B37: 23 | C37: =HEX2DEC(B37) -> 35 | D37: Earth Attack
A38: thunderatt | B38: 24 | C38: =HEX2DEC(B38) -> 36 | D38: Thunder Attack
A39: wateratt | B39: 25 | C39: =HEX2DEC(B39) -> 37 | D39: Water Attack
A40: lightatt | B40: 26 | C40: =HEX2DEC(B40) -> 38 | D40: Light Attack
A41: darkatt | B41: 27 | C41: =HEX2DEC(B41) -> 39 | D41: Dark Attack
A42: fireacc | B42: 28 | C42: =HEX2DEC(B42) -> 40 | D42: Fire Accuracy
A43: iceacc | B43: 29 | C43: =HEX2DEC(B43) -> 41 | D43: Ice Accuracy
A44: windacc | B44: 2a | C44: =HEX2DEC(B44) -> 42 | D44: Wind Accuracy
A45: earthacc | B45: 2b | C45: =HEX2DEC(B45) -> 43 | D45: Earth Accuracy
A46: thunderacc | B46: 2c | C46: =HEX2DEC(B46) -> 44 | D46: Thunder Accuracy
A47: wateracc | B47: 2d | C47: =HEX2DEC(B47) -> 45 | D47: Water Accuracy
A48: lightacc | B48: 2e | C48: =HEX2DEC(B48) -> 46 | D48: Light Accuracy
A49: darkacc | B49: 2f | C49: =HEX2DEC(B49) -> 47 | D49: Dark Accuracy
A50: wsacc | B50: 30 | C50: =HEX2DEC(B50) -> 48 | D50: Weapon Skill Accuracy
A51: eva | B51: 44 | C51: =HEX2DEC(B51) -> 68 | D51: Evasion
A52: rdef | B52: 45 | C52: =HEX2DEC(B52) -> 69 | D52: Ranged Defense
A53: reva | B53: 46 | C53: =HEX2DEC(B53) -> 70 | D53: Ranged Evasion
A54: att% | B54: 3e | C54: =HEX2DEC(B54) -> 62 | D54: Percent Attack
A55: def% | B55: 3f | C55: =HEX2DEC(B55) -> 63 | D55: Percent Defense
A56: acc% | B56: 40 | C56: =HEX2DEC(B56) -> 64 | D56: Percent Accuracy
A57: eva% | B57: 41 | C57: =HEX2DEC(B57) -> 65 | D57: Percent Evasion
A58: ratt% | B58: 42 | C58: =HEX2DEC(B58) -> 66 | D58: Percent Ranged Attack
A59: racc% | B59: 43 | C59: =HEX2DEC(B59) -> 67 | D59: Percent Ranged Accuracy
A60: mp5 | B60: 47 | C60: =HEX2DEC(B60) -> 71 | D60: MP while Healing
A61: hp5 | B61: 48 | C61: =HEX2DEC(B61) -> 72 | D61: HP while Healing
A62: store tp | B62: 49 | C62: =HEX2DEC(B62) -> 73 | D62: Store TP
A63: hth | B63: 50 | C63: =HEX2DEC(B63) -> 80 | D63: Hand to Hand
A64: dagger | B64: 51 | C64: =HEX2DEC(B64) -> 81 | D64: Dagger
A65: sword | B65: 52 | C65: =HEX2DEC(B65) -> 82 | D65: Sword
A66: gsword | B66: 53 | C66: =HEX2DEC(B66) -> 83 | D66: Great Sword
A67: axe | B67: 54 | C67: =HEX2DEC(B67) -> 84 | D67: Axe
... A72: gkt | B72: 59 | C72: =HEX2DEC(B72) -> 89 | D72: Great Katana
A73: club | B73: 5a | C73: =HEX2DEC(B73) -> 90 | D73: Club
A74: staff | B74: 5b | C74: =HEX2DEC(B74) -> 91 | D74: Staff
A75: acc skill | B75: 65 | C75: =HEX2DEC(B75) -> 101 | D75: Melee Accuracy Skill
A76: racc skill | B76: 66 | C76: =HEX2DEC(B76) -> 102 | D76: Ranged Accuracy Skill
A77: macc skill | B77: 67 | C77: =HEX2DEC(B77) -> 103 | D77: Magic Accuracy Skill
A78: archery | B78: 68 | C78: =HEX2DEC(B78) -> 104 | D78: Archery
A79: marks | B79: 69 | C79: =HEX2DEC(B79) -> 105 | D79: Marksmanship
A80: throw | B80: 6a | C80: =HEX2DEC(B80) -> 106 | D80: Throwing
A81: guard | B81: 6b | C81: =HEX2DEC(B81) -> 107 | D81: Guard
A82: eva skill | B82: 6c | C82: =HEX2DEC(B82) -> 108 | D82: Evasion Skill
A83: shield | B83: 6d | C83: =HEX2DEC(B83) -> 109 | D83: Shield
A84: parry | B84: 6e | C84: =HEX2DEC(B84) -> 110 | D84: Parrying
A85: divine | B85: 6f | C85: =HEX2DEC(B85) -> 111 | D85: Divine Magic
A86: healing | B86: 70 | C86: =HEX2DEC(B86) -> 112 | D86: Healing Magic
A87: enhancing | B87: 71 | C87: =HEX2DEC(B87) -> 113 | D87: Enhancing Magic
A88: enfeebling | B88: 72 | C88: =HEX2DEC(B88) -> 114 | D88: Enfeebling Magic
A89: elemental | B89: 73 | C89: =HEX2DEC(B89) -> 115 | D89: Elemental Magic
A90: dark | B90: 74 | C90: =HEX2DEC(B90) -> 116 | D90: Dark Magic
A91: summoning | B91: 75 | C91: =HEX2DEC(B91) -> 117 | D91: Summoning Magic
A92: ninjutsu | B92: 76 | C92: =HEX2DEC(B92) -> 118 | D92: Ninjutsu
A93: singing | B93: 77 | C93: =HEX2DEC(B93) -> 119 | D93: Singing Skill
A94: string | B94: 78 | C94: =HEX2DEC(B94) -> 120 | D94: String Instruments
A95: wind | B95: 79 | C95: =HEX2DEC(B95) -> 121 | D95: Wind Instruments
A96: blue | B96: 7a | C96: =HEX2DEC(B96) -> 122 | D96: Blue Magic
A97: fish | B97: 7f | C97: =HEX2DEC(B97) -> 127 | D97: Fishing
A98: wood | B98: 80 | C98: =HEX2DEC(B98) -> 128 | D98: Carpentry
A99: smith | B99: 81 | C99: =HEX2DEC(B99) -> 129 | D99: Smithing
A100: gsmith | B100: 82 | C100: =HEX2DEC(B100) -> 130 | D100: Goldsmithing
A101: cloth | B101: 83 | C101: =HEX2DEC(B101) -> 131 | D101: Tailoring
A102: leather | B102: 84 | C102: =HEX2DEC(B102) -> 132 | D102: Leatherworking
A103: bone | B103: 85 | C103: =HEX2DEC(B103) -> 133 | D103: Boneworking
A104: alchemy | B104: 86 | C104: =HEX2DEC(B104) -> 134 | D104: Alchemy
...
