Workbook

Sheet Main
A1: ITEM ID | B1: 27735 | G1: INPUT
A2: Effect | B2: Magnitude | C2: Eff # | D2: Full Effect | E2: Result | G2: CALCULATION
A3: def | B3: 50 | C3: =VLOOKUP(A3,Effects!A2:D497,3,FALSE) -> 1 | D3: =VLOOKUP(A3,Effects!A2:D497,4,FALSE) -> Defense | E3: =CONCATENATE("INSERT INTO `item_mods` VALUES (",$B$1,", ",C3,", ",B3,"); -- ",D3," + ",B3) -> INSERT INTO `item_mods` VALUES (27735, 1, 50); -- Defense + 50 | G3: OUTPUT
A4: hp | B4: 13 | C4: =VLOOKUP(A4,Effects!A3:D498,3,FALSE) -> 2 | D4: =VLOOKUP(A4,Effects!A3:D498,4,FALSE) -> HP | E4: =CONCATENATE("INSERT INTO `item_mods` VALUES (",$B$1,", ",C4,", ",B4,"); -- ",D4," + ",B4) -> INSERT INTO `item_mods` VALUES (27735, 2, 13); -- HP + 13
A5: mp | B5: 26 | C5: =VLOOKUP(A5,Effects!A4:D499,3,FALSE) -> 5 | D5: =VLOOKUP(A5,Effects!A4:D499,4,FALSE) -> MP | E5: =CONCATENATE("INSERT INTO `item_mods` VALUES (",$B$1,", ",C5,", ",B5,"); -- ",D5," + ",B5) -> INSERT INTO `item_mods` VALUES (27735, 5, 26); -- MP + 26
A6: str | B6: 10 | C6: =VLOOKUP(A6,Effects!A5:D500,3,FALSE) -> 8 | D6: =VLOOKUP(A6,Effects!A5:D500,4,FALSE) -> STR | E6: =CONCATENATE("INSERT INTO `item_mods` VALUES (",$B$1,", ",C6,", ",B6,"); -- ",D6," + ",B6) -> INSERT INTO `item_mods` VALUES (27735, 8, 10); -- STR + 10
A7: dex | B7: 10 | C7: =VLOOKUP(A7,Effects!A6:D501,3,FALSE) -> 9 | D7: =VLOOKUP(A7,Effects!A6:D501,4,FALSE) -> DEX | E7: =CONCATENATE("INSERT INTO `item_mods` VALUES (",$B$1,", ",C7,", ",B7,"); -- ",D7," + ",B7) -> INSERT INTO `item_mods` VALUES (27735, 9, 10); -- DEX + 10
A8: vit | B8: 10 | C8: =VLOOKUP(A8,Effects!A7:D502,3,FALSE) -> 10 | D8: =VLOOKUP(A8,Effects!A7:D502,4,FALSE) -> VIT | E8: =CONCATENATE("INSERT INTO `item_mods` VALUES (",$B$1,", ",C8,", ",B8,"); -- ",D8," + ",B8) -> INSERT INTO `item_mods` VALUES (27735, 10, 10); -- VIT + 10
A9: agi | B9: 10 | C9: =VLOOKUP(A9,Effects!A8:D503,3,FALSE) -> 11 | D9: =VLOOKUP(A9,Effects!A8:D503,4,FALSE) -> AGI | E9: =CONCATENATE("INSERT INTO `item_mods` VALUES (",$B$1,", ",C9,", ",B9,"); -- ",D9," + ",B9) -> INSERT INTO `item_mods` VALUES (27735, 11, 10); -- AGI + 10
A10: int | B10: 13 | C10: =VLOOKUP(A10,Effects!A9:D504,3,FALSE) -> 12 | D10: =VLOOKUP(A10,Effects!A9:D504,4,FALSE) -> INT | E10: =CONCATENATE("INSERT INTO `item_mods` VALUES (",$B$1,", ",C10,", ",B10,"); -- ",D10," + ",B10) -> INSERT INTO `item_mods` VALUES (27735, 12, 13); -- INT + 13
A11: mnd | B11: 13 | C11: =VLOOKUP(A11,Effects!A10:D505,3,FALSE) -> 13 | D11: =VLOOKUP(A11,Effects!A10:D505,4,FALSE) -> MND | E11: =CONCATENATE("INSERT INTO `item_mods` VALUES (",$B$1,", ",C11,", ",B11,"); -- ",D11," + ",B11) -> INSERT INTO `item_mods` VALUES (27735, 13, 13); -- MND + 13
A12: chr | B12: 19 | C12: =VLOOKUP(A12,Effects!A11:D506,3,FALSE) -> 14 | D12: =VLOOKUP(A12,Effects!A11:D506,4,FALSE) -> CHR | E12: =CONCATENATE("INSERT INTO `item_mods` VALUES (",$B$1,", ",C12,", ",B12,"); -- ",D12," + ",B12) -> INSERT INTO `item_mods` VALUES (27735, 14, 19); -- CHR + 19
A13: light | B13: 40 | C13: =VLOOKUP(A13,Effects!A12:D507,3,FALSE) -> 60 | D13: =VLOOKUP(A13,Effects!A12:D507,4,FALSE) -> Light Resistance | E13: =CONCATENATE("INSERT INTO `item_mods` VALUES (",$B$1,", ",C13,", ",B13,"); -- ",D13," + ",B13) -> INSERT INTO `item_mods` VALUES (27735, 60, 40); -- Light Resistance + 40
A14: eva | B14: 12 | C14: =VLOOKUP(A14,Effects!A13:D508,3,FALSE) -> 68 | D14: =VLOOKUP(A14,Effects!A13:D508,4,FALSE) -> Evasion | E14: =CONCATENATE("INSERT INTO `item_mods` VALUES (",$B$1,", ",C14,", ",B14,"); -- ",D14," + ",B14) -> INSERT INTO `item_mods` VALUES (27735, 68, 12); -- Evasion + 12
A15: meva | B15: 51 | C15: =VLOOKUP(A15,Effects!A14:D509,3,FALSE) -> 31 | D15: =VLOOKUP(A15,Effects!A14:D509,4,FALSE) -> Magic Evasion | E15: =CONCATENATE("INSERT INTO `item_mods` VALUES (",$B$1,", ",C15,", ",B15,"); -- ",D15," + ",B15) -> INSERT INTO `item_mods` VALUES (27735, 31, 51); -- Magic Evasion + 51
... A18: blindres | B18: 2 | C18: =VLOOKUP(A18,Effects!A17:D512,3,FALSE) -> 243 | D18: =VLOOKUP(A18,Effects!A17:D512,4,FALSE) -> Blind Resistance | E18: =CONCATENATE("INSERT INTO `item_mods` VALUES (",$B$1,", ",C18,", ",B18,"); -- ",D18," + ",B18) -> INSERT INTO `item_mods` VALUES (27735, 243, 2); -- Blind Resistance + 2
C19: =VLOOKUP(A19,Effects!A18:D513,3,FALSE) -> #N/A | D19: =VLOOKUP(A19,Effects!A18:D513,4,FALSE) -> #N/A | E19: =CONCATENATE("INSERT INTO `item_mods` VALUES (",$B$1,", ",C19,", ",B19,"); -- ",D19," + ",B19) -> #N/A
C20: =VLOOKUP(A20,Effects!A19:D514,3,FALSE) -> #N/A | D20: =VLOOKUP(A20,Effects!A19:D514,4,FALSE) -> #N/A | E20: =CONCATENATE("INSERT INTO `item_mods` VALUES (",$B$1,", ",C20,", ",B20,"); -- ",D20," + ",B20) -> #N/A
C21: =VLOOKUP(A21,Effects!A20:D515,3,FALSE) -> #N/A | D21: =VLOOKUP(A21,Effects!A20:D515,4,FALSE) -> #N/A | E21: =CONCATENATE("INSERT INTO `item_mods` VALUES (",$B$1,", ",C21,", ",B21,"); -- ",D21," + ",B21) -> #N/A
C22: =VLOOKUP(A22,Effects!A21:D516,3,FALSE) -> #N/A | D22: =VLOOKUP(A22,Effects!A21:D516,4,FALSE) -> #N/A | E22: =CONCATENATE("INSERT INTO `item_mods` VALUES (",$B$1,", ",C22,", ",B22,"); -- ",D22," + ",B22) -> #N/A
C23: =VLOOKUP(A23,Effects!A22:D517,3,FALSE) -> #N/A | D23: =VLOOKUP(A23,Effects!A22:D517,4,FALSE) -> #N/A | E23: =CONCATENATE("INSERT INTO `item_mods` VALUES (",$B$1,", ",C23,", ",B23,"); -- ",D23," + ",B23) -> #N/A
C24: =VLOOKUP(A24,Effects!A23:D518,3,FALSE) -> #N/A | D24: =VLOOKUP(A24,Effects!A23:D518,4,FALSE) -> #N/A | E24: =CONCATENATE("INSERT INTO `item_mods` VALUES (",$B$1,", ",C24,", ",B24,"); -- ",D24," + ",B24) -> #N/A
A25: COMMENTED/UNKNOWN LINES
A26: UNKNOWN EFFECT NUMBER, KNOWN VALUE
A27: Unknown | B27: 5 | D27: Song Spellcasting Time | E27: =CONCATENATE("-- INSERT INTO `item_mods` VALUES (",$B$1,", ?, ",B27,"); -- ",D27," + ",B27) -> -- INSERT INTO `item_mods` VALUES (27735, ?, 5); -- Song Spellcasting Time + 5
A28: KNOWN EFFECT NUMBER, UNKNOWN VALUE
A29: fastcast | B29: ? | C29: =VLOOKUP(A29,Effects!A28:D523,3,FALSE) -> 170 | D29: =VLOOKUP(A29,Effects!A28:D523,4,FALSE) -> Fast Cast | E29: =CONCATENATE("-- INSERT INTO `item_mods` VALUES (",$B$1,", ",C29,", ",B29,"); -- ",D29," + ",B29) -> -- INSERT INTO `item_mods` VALUES (27735, 170, ?); -- Fast Cast + ?
A30: UNKNOWN EFFECT NUMBER AND VALUE
A31: Unknown | B31: ? | D31: Elemental WS by Day | E31: =CONCATENATE("-- INSERT INTO `item_mods` VALUES (",$B$1,", ?, ",B31,"); -- ",D31," + ",B31) -> -- INSERT INTO `item_mods` VALUES (27735, ?, ?); -- Elemental WS by Day + ?

Sheet Effects
A1: Effect | B1: Hex | C1: Dec | D1: Description | E1: Value Syntax
A2: def | B2: 1 | C2: =HEX2DEC(B2) -> 1 | D2: Defense
A3: hp | B3: 2 | C3: =HEX2DEC(B3) -> 2 | D3: HP
A4: hp% | B4: 3 | C4: =HEX2DEC(B4) -> 3 | D4: Percent HP
A5: mp to hp | B5: 4 | C5: =HEX2DEC(B5) -> 4 | D5: Converts MP to HP
A6: mp | B6: 5 | C6: =HEX2DEC(B6) -> 5 | D6: MP
A7: mp% | B7: 6 | C7: =HEX2DEC(B7) -> 6 | D7: Percent MP
A8: hp to mp | B8: 7 | C8: =HEX2DEC(B8) -> 7 | D8: Converts HP to MP
A9: str | B9: 8 | C9: =HEX2DEC(B9) -> 8 | D9: STR
A10: dex | B10: 9 | C10: =HEX2DEC(B10) -> 9 | D10: DEX
A11: vit | B11: a | C11: =HEX2DEC(B11) -> 10 | D11: VIT
A12: agi | B12: b | C12: =HEX2DEC(B12) -> 11 | D12: AGI
A13: int | B13: c | C13: =HEX2DEC(B13) -> 12 | D13: INT
A14: mnd | B14: d | C14: =HEX2DEC(B14) -> 13 | D14: MND
A15: chr | B15: e | C15: =HEX2DEC(B15) -> 14 | D15: CHR
A16: fire | B16: 36 | C16: =HEX2DEC(B16) -> 54 | D16: Fire Resistance
A17: ice | B17: 37 | C17: =HEX2DEC(B17) -> 55 | D17: Ice Resistance
A18: wind | B18: 38 | C18: =HEX2DEC(B18) -> 56 | D18: Wind Resistance
A19: earth | B19: 39 | C19: =HEX2DEC(B19) -> 57 | D19: Earth Resistance
A20: thunder | B20: 3a | C20: =HEX2DEC(B20) -> 58 | D20: Thunder Resistance
A21: water | B21: 3b | C21: =HEX2DEC(B21) -> 59 | D21: Water Resistance
A22: light | B22: 3c | C22: =HEX2DEC(B22) -> 60 | D22: Light Resistance
A23: dark | B23: 3d | C23: =HEX2DEC(B23) -> 61 | D23: Dark Resistance
A24: att | B24: 17 | C24: =HEX2DEC(B24) -> 23 | D24: Attack
A25: ratt | B25: 18 | C25: =HEX2DEC(B25) -> 24 | D25: Ranged Attack
A26: acc | B26: 19 | C26: =HEX2DEC(B26) -> 25 | D26: Accuracy
A27: racc | B27: 1a | C27: =HEX2DEC(B27) -> 26 | D27: Ranged Accuracy
A28: enmity | B28: 1b | C28: =HEX2DEC(B28) -> 27 | D28: Enmity
A29: enmity loss | B29: 1f6 | C29: =HEX2DEC(B29) -> 502 | D29: Loss of Enmity
A30: matt | B30: 1c | C30: =HEX2DEC(B30) -> 28 | D30: Magic Attack Bonus
A31: mdef | B31: 1d | C31: =HEX2DEC(B31) -> 29 | D31: Magic Defense Bonus
A32: macc | B32: 1e | C32: =HEX2DEC(B32) -> 30 | D32: Magic Accuracy
A33: meva | B33: 1f | C33: =HEX2DEC(B33) -> 31 | D33: Magic Evasion
A34: fireatt | B34: 20 | C34: =HEX2DEC(B34) -> 32 | D34: Fire Attack
A35: iceatt | B35: 21 | C35: =HEX2DEC(B35) -> 33 | D35: Ice Attack
A36: windatt | B36: 22 | C36: =HEX2DEC(B36) -> 34 | D36: Wind Attack
A37: earthatt | B37: 23 | C37: =HEX2DEC(B37) -> 35 | D37: Earth Attack
A38: thunderatt | B38: 24 | C38: =HEX2DEC(B38) -> 36 | D38: Thunder Attack
A39: wateratt | B39: 25 | C39: =HEX2DEC(B39) -> 37 | D39: Water Attack
A40: lightatt | B40: 26 | C40: =HEX2DEC(B40) -> 38 | D40: Light Attack
...
